BEGIN:VCALENDAR
VERSION:2.0
PRODID:-//CERN//INDICO//EN
BEGIN:VEVENT
SUMMARY:Rare and Strange decays in LHCb
DTSTART;VALUE=DATE-TIME:20251120T100000Z
DTEND;VALUE=DATE-TIME:20251120T102000Z
DTSTAMP;VALUE=DATE-TIME:20260421T163301Z
UID:indico-contribution-28803@indico.ific.uv.es
DESCRIPTION:Speakers: Miguel Fernandez Gomez (Universidade de Santiago de 
 Compostela)\nhttps://indico.ific.uv.es/event/8035/contributions/28803/
LOCATION:
URL:https://indico.ific.uv.es/event/8035/contributions/28803/
END:VEVENT
END:VCALENDAR
