BEGIN:VCALENDAR
VERSION:2.0
PRODID:-//CERN//INDICO//EN
BEGIN:VEVENT
SUMMARY:Measurements of ttW in Run 3 at CMS
DTSTART;VALUE=DATE-TIME:20251120T090000Z
DTEND;VALUE=DATE-TIME:20251120T092000Z
DTSTAMP;VALUE=DATE-TIME:20260422T105703Z
UID:indico-contribution-28802@indico.ific.uv.es
DESCRIPTION:Speakers: Miguel Obeso Menéndez (ICTEA-Universidad de Oviedo)
 \nhttps://indico.ific.uv.es/event/8035/contributions/28802/
LOCATION:
URL:https://indico.ific.uv.es/event/8035/contributions/28802/
END:VEVENT
END:VCALENDAR
