BEGIN:VCALENDAR
VERSION:2.0
PRODID:-//CERN//INDICO//EN
BEGIN:VEVENT
SUMMARY:Constraints on effective field theories via quadruple-differential
  angular decay rates from single-top-quark at ATLAS
DTSTART;VALUE=DATE-TIME:20251120T094000Z
DTEND;VALUE=DATE-TIME:20251120T100000Z
DTSTAMP;VALUE=DATE-TIME:20260420T154229Z
UID:indico-contribution-28801@indico.ific.uv.es
DESCRIPTION:Speakers: Mariam Chitishvili (Instituto de Fisica Corpuscular 
 (IFIC) - CSIC/UV)\nhttps://indico.ific.uv.es/event/8035/contributions/2880
 1/
LOCATION:
URL:https://indico.ific.uv.es/event/8035/contributions/28801/
END:VEVENT
END:VCALENDAR
