BEGIN:VCALENDAR
VERSION:2.0
PRODID:-//CERN//INDICO//EN
BEGIN:VEVENT
SUMMARY:Validation of electron and muon reconstruction with 2024 LHCb data
  through the measurement of rJpsi
DTSTART;VALUE=DATE-TIME:20251120T084000Z
DTEND;VALUE=DATE-TIME:20251120T090000Z
DTSTAMP;VALUE=DATE-TIME:20260421T163325Z
UID:indico-contribution-28800@indico.ific.uv.es
DESCRIPTION:Speakers: Pol Vidrier Villalba ()\nhttps://indico.ific.uv.es/e
 vent/8035/contributions/28800/
LOCATION:
URL:https://indico.ific.uv.es/event/8035/contributions/28800/
END:VEVENT
END:VCALENDAR
