BEGIN:VCALENDAR
VERSION:2.0
PRODID:-//CERN//INDICO//EN
BEGIN:VEVENT
SUMMARY:Dark scalar reinterpretation of searches for Higgs boson decays in
 to long-lived particles at the LHC
DTSTART;VALUE=DATE-TIME:20251119T174000Z
DTEND;VALUE=DATE-TIME:20251119T180000Z
DTSTAMP;VALUE=DATE-TIME:20260420T161235Z
UID:indico-contribution-28799@indico.ific.uv.es
DESCRIPTION:Speakers: Alberto Escalante del Valle (Centro de Investigacion
 es Energéticas\, Medioambientales y Tecnológicas)\nhttps://indico.ific.u
 v.es/event/8035/contributions/28799/
LOCATION:
URL:https://indico.ific.uv.es/event/8035/contributions/28799/
END:VEVENT
END:VCALENDAR
