BEGIN:VCALENDAR
VERSION:2.0
PRODID:-//CERN//INDICO//EN
BEGIN:VEVENT
SUMMARY:Study of individual ATLAS Tiles aging using Cesium scans
DTSTART;VALUE=DATE-TIME:20251119T164000Z
DTEND;VALUE=DATE-TIME:20251119T170000Z
DTSTAMP;VALUE=DATE-TIME:20260420T234616Z
UID:indico-contribution-28798@indico.ific.uv.es
DESCRIPTION:Speakers: Adrian Berrocal Guardia (Institut de Física d'Altes
  Energies (IFAE))\nhttps://indico.ific.uv.es/event/8035/contributions/2879
 8/
LOCATION:
URL:https://indico.ific.uv.es/event/8035/contributions/28798/
END:VEVENT
END:VCALENDAR
