BEGIN:VCALENDAR
VERSION:2.0
PRODID:-//CERN//INDICO//EN
BEGIN:VEVENT
SUMMARY:R&D in LHC Computing projects in Spain
DTSTART;VALUE=DATE-TIME:20251119T170000Z
DTEND;VALUE=DATE-TIME:20251119T172000Z
DTSTAMP;VALUE=DATE-TIME:20260421T163300Z
UID:indico-contribution-28797@indico.ific.uv.es
DESCRIPTION:Speakers: Pablo Collado Soto (Universidad Autónoma de Madrid)
 \nhttps://indico.ific.uv.es/event/8035/contributions/28797/
LOCATION:
URL:https://indico.ific.uv.es/event/8035/contributions/28797/
END:VEVENT
END:VCALENDAR
