BEGIN:VCALENDAR
VERSION:2.0
PRODID:-//CERN//INDICO//EN
BEGIN:VEVENT
SUMMARY:First observation of Sigma+ -> p mu+mu- decays at LHCb
DTSTART;VALUE=DATE-TIME:20251119T160000Z
DTEND;VALUE=DATE-TIME:20251119T162000Z
DTSTAMP;VALUE=DATE-TIME:20260420T161303Z
UID:indico-contribution-28796@indico.ific.uv.es
DESCRIPTION:Speakers: Jeremy Dalseno (Universidade da Coruña)\nhttps://in
 dico.ific.uv.es/event/8035/contributions/28796/
LOCATION:
URL:https://indico.ific.uv.es/event/8035/contributions/28796/
END:VEVENT
END:VCALENDAR
