BEGIN:VCALENDAR
VERSION:2.0
PRODID:-//CERN//INDICO//EN
BEGIN:VEVENT
SUMMARY:WW and HWW in Run2 and Run3 (CMS)
DTSTART;VALUE=DATE-TIME:20251119T162000Z
DTEND;VALUE=DATE-TIME:20251119T164000Z
DTSTAMP;VALUE=DATE-TIME:20260422T105704Z
UID:indico-contribution-28795@indico.ific.uv.es
DESCRIPTION:Speakers: Sergio Blanco Fernandez (Instituto de Fisica de Cant
 abria (IFCA))\nhttps://indico.ific.uv.es/event/8035/contributions/28795/
LOCATION:
URL:https://indico.ific.uv.es/event/8035/contributions/28795/
END:VEVENT
END:VCALENDAR
