BEGIN:VCALENDAR
VERSION:2.0
PRODID:-//CERN//INDICO//EN
BEGIN:VEVENT
SUMMARY:Tests of BSM Higgs interactions by the combination kV^2 - k2V  in 
 HHjj production at LHC
DTSTART;VALUE=DATE-TIME:20251119T140000Z
DTEND;VALUE=DATE-TIME:20251119T142000Z
DTSTAMP;VALUE=DATE-TIME:20260420T215536Z
UID:indico-contribution-28792@indico.ific.uv.es
DESCRIPTION:Speakers: Guillermo García Mir (IFT)\nhttps://indico.ific.uv.
 es/event/8035/contributions/28792/
LOCATION:
URL:https://indico.ific.uv.es/event/8035/contributions/28792/
END:VEVENT
END:VCALENDAR
