BEGIN:VCALENDAR
VERSION:2.0
PRODID:-//CERN//INDICO//EN
BEGIN:VEVENT
SUMMARY:Upgrade of the CMS muon detector Trigger timing: from Run3 to HL-L
 HC
DTSTART;VALUE=DATE-TIME:20251119T130000Z
DTEND;VALUE=DATE-TIME:20251119T132000Z
DTSTAMP;VALUE=DATE-TIME:20260421T071421Z
UID:indico-contribution-28790@indico.ific.uv.es
DESCRIPTION:Speakers: Oliver Manzanilla Carretero (CIEMAT)\nhttps://indico
 .ific.uv.es/event/8035/contributions/28790/
LOCATION:
URL:https://indico.ific.uv.es/event/8035/contributions/28790/
END:VEVENT
END:VCALENDAR
