BEGIN:VCALENDAR
VERSION:2.0
PRODID:-//CERN//INDICO//EN
BEGIN:VEVENT
SUMMARY:Quark-Gluon-Quark interference inside the proton
DTSTART;VALUE=DATE-TIME:20251119T131500Z
DTEND;VALUE=DATE-TIME:20251119T133000Z
DTSTAMP;VALUE=DATE-TIME:20260421T163309Z
UID:indico-contribution-28647@indico.ific.uv.es
DESCRIPTION:Speakers: Guillermo Portela Maller (Universidad Complutense de
  Madrid)\nAbstract:\nQuantum Chromodynamics predicts that protons are shap
 ed not only by parton densities but also by quantum  interference between 
 quarks and gluons. In this talk I'll present our most recent work on the e
 xtraction of this interference effects\, establishing their presence at a 
 2-3 sigma significance.\n\nhttps://indico.ific.uv.es/event/8035/contributi
 ons/28647/
LOCATION:
URL:https://indico.ific.uv.es/event/8035/contributions/28647/
END:VEVENT
END:VCALENDAR
