BEGIN:VCALENDAR
VERSION:2.0
PRODID:-//CERN//INDICO//EN
BEGIN:VEVENT
SUMMARY:Symmetry-restoring finite counterterms of SMEFT four-fermion opera
 tor insertions at one-loop
DTSTART;VALUE=DATE-TIME:20251119T170000Z
DTEND;VALUE=DATE-TIME:20251119T171500Z
DTSTAMP;VALUE=DATE-TIME:20260420T161308Z
UID:indico-contribution-28646@indico.ific.uv.es
DESCRIPTION:Speakers: Sergio Ferrando Solera (IFIC)\nDimensional regulariz
 ation is nowadays the most used technique to perform loop calculations in 
 Quantum Field Theories. However\, it faces some complications when applied
  to chiral gauge theories such as the Standard Model of particle physics b
 ecause it is not possible to define a mathematically consistent D-dimensio
 nal scheme that preserves gauge symmetries. Nonetheless\, for a theory fre
 e of physical anomalies it is always possible to restore the symmetry by t
 he addition of the appropriate set of both infinite and finite counterterm
 s. In our work\, we present the complete calculation of such finite counte
 rterms needed for the consistent renormalization of the dimension six four
 -fermion operators of the Standard Model Effective Field Theory at one loo
 p using the Breitenlohner-Maison-’t Hooft-Veltman scheme.\n\nhttps://ind
 ico.ific.uv.es/event/8035/contributions/28646/
LOCATION:
URL:https://indico.ific.uv.es/event/8035/contributions/28646/
END:VEVENT
END:VCALENDAR
