BEGIN:VCALENDAR
VERSION:2.0
PRODID:-//CERN//INDICO//EN
BEGIN:VEVENT
SUMMARY:A hot take on electroweak Skyrmions
DTSTART;VALUE=DATE-TIME:20251119T163000Z
DTEND;VALUE=DATE-TIME:20251119T164500Z
DTSTAMP;VALUE=DATE-TIME:20260420T191905Z
UID:indico-contribution-28645@indico.ific.uv.es
DESCRIPTION:Speakers: Luis Gil (Universidad de Granada)\nSkyrmions were fi
 rst proposed in QCD\, where they provide a topological description of bary
 ons as solitonic excitations of the pion field. Their emergence as a new d
 egree of freedom without the need of additional field content\, and their 
 potential as a dark matter candidate\, has since motivated the search for 
 analogous configurations in other theories.\n\nIn this work\, we shall add
 ress the search for Skyrmions in electroweak-like sectors. We will briefly
  discuss three essential aspects of Skyrmions: 1) the requirements for the
 ir stability\, 2) their existence in weakly-coupled UV completions and 3) 
 whether high-temperature effects might aid in stabilizing them.\n\nhttps:/
 /indico.ific.uv.es/event/8035/contributions/28645/
LOCATION:
URL:https://indico.ific.uv.es/event/8035/contributions/28645/
END:VEVENT
END:VCALENDAR
