BEGIN:VCALENDAR
VERSION:2.0
PRODID:-//CERN//INDICO//EN
BEGIN:VEVENT
SUMMARY:Running couplings in the high-temperature effective theory of the 
 Standard Model
DTSTART;VALUE=DATE-TIME:20251119T161500Z
DTEND;VALUE=DATE-TIME:20251119T163000Z
DTSTAMP;VALUE=DATE-TIME:20260422T150238Z
UID:indico-contribution-28641@indico.ific.uv.es
DESCRIPTION:Speakers: Andrii Dashko (University of Granada)\nIn this work\
 , we study the renormalization-group evolution of parameters in the dimens
 ionally reduced three-dimensional effective field theory (3D EFT) that des
 cribes thermally driven electroweak phase transitions of the Standard Mode
 l Higgs field\, triggered by Beyond the Standard Model physics. \nWe compu
 te the two-loop running of the 3D EFT including the effect of the leading 
 non-renormalizable terms.\nWe then analyze how the running affects the the
 rmodynamic observables characterizing the phase transition\, such as the c
 ritical temperature and the transition strength.\nBy incorporating higher-
 order corrections in the mass parameter evolution\, as well as the running
  of other effective operators\, we set the stage for testing their impact 
 on phase transition dynamics in lattice simulations.\n\nhttps://indico.ifi
 c.uv.es/event/8035/contributions/28641/
LOCATION:
URL:https://indico.ific.uv.es/event/8035/contributions/28641/
END:VEVENT
END:VCALENDAR
