BEGIN:VCALENDAR
VERSION:2.0
PRODID:-//CERN//INDICO//EN
BEGIN:VEVENT
SUMMARY:Probing Parton Distribution Functions with DUNE
DTSTART;VALUE=DATE-TIME:20251119T133000Z
DTEND;VALUE=DATE-TIME:20251119T134500Z
DTSTAMP;VALUE=DATE-TIME:20260422T071148Z
UID:indico-contribution-28638@indico.ific.uv.es
DESCRIPTION:Speakers: Ángel Felipe Ballesteros (University of the Basque 
 Country (EHU))\nNeutrinos are a valuable probe for measuring Parton Distri
 bution Functions (PDFs) due to the flavor-dependent nature of their intera
 ctions with quarks. Recent comparisons between neutrino-nucleon and charge
 d lepton-nucleon deep inelastic scattering (DIS) data show emerging tensio
 ns\, which may lead to neutrino exclusive nuclear physics. However\, previ
 ous neutrino studies have been hindered\, in part\, by low statistics. Rec
 ent advances in neutrino experiments open the door for a new era of high-s
 tatistics\, good final-state reconstruction\, neutrino-nucleus interaction
 s measurements. The Deep Underground Neutrino Experiment (DUNE) is a prime
  example. This work is a first step to investigate the capability of DUNE 
 to determine PDFs in high Bjorken $x$ and low $Q^2$ regions. We find that 
 DUNE may be able to constrain and reduce the error of PDFs in these region
 s\, that currently are in mild tension among different datasets. Moreover\
 , we have conducted an analysis with similar results for charm-tagged even
 ts\, which show potential to improve the understanding of the strange quar
 k content of nuclei.\n\nhttps://indico.ific.uv.es/event/8035/contributions
 /28638/
LOCATION:
URL:https://indico.ific.uv.es/event/8035/contributions/28638/
END:VEVENT
END:VCALENDAR
