BEGIN:VCALENDAR
VERSION:2.0
PRODID:-//CERN//INDICO//EN
BEGIN:VEVENT
SUMMARY:Classification of Modular UV Completions via  cLFV observables
DTSTART;VALUE=DATE-TIME:20251120T090000Z
DTEND;VALUE=DATE-TIME:20251120T091500Z
DTSTAMP;VALUE=DATE-TIME:20260422T105705Z
UID:indico-contribution-28637@indico.ific.uv.es
DESCRIPTION:Speakers: Adrián Moreno Sánchez (Universidad de Granada)\nMo
 dular symmetries have emerged as a promising and elegant approach to the f
 lavor problem\, with the discrete group $A_4$ as a benchmark example. In t
 his work\, we study the impact of modular UV interactions generating dimen
 sion-6 SMEFT operators with leptons. Restricting to extensions with a sing
 le mediator and at most one modular form insertion\, we classify the possi
 ble scenarios and compute their one-loop matching. We show how charged lep
 ton flavor violating observables provide stringent constraints\, offering 
 a systematic path to test modular flavor symmetries in the future.\n\nhttp
 s://indico.ific.uv.es/event/8035/contributions/28637/
LOCATION:
URL:https://indico.ific.uv.es/event/8035/contributions/28637/
END:VEVENT
END:VCALENDAR
