BEGIN:VCALENDAR
VERSION:2.0
PRODID:-//CERN//INDICO//EN
BEGIN:VEVENT
SUMMARY:Scotogenic mechanism from an extended $SU(2)_1 \\times SU(2)_2 \\t
 imes U(1)_Y$ electroweak symmetry
DTSTART;VALUE=DATE-TIME:20251120T080000Z
DTEND;VALUE=DATE-TIME:20251120T081500Z
DTSTAMP;VALUE=DATE-TIME:20260422T105529Z
UID:indico-contribution-28633@indico.ific.uv.es
DESCRIPTION:Speakers: Javier Perez-Soler (IFIC (CSIC - UV))\nWe propose an
  extension of the electroweak sector of the Standard Model in which the ga
 uge group $SU(2)_L$ is promoted to $SU(2)_1 \\times SU(2)_2$. This framewo
 rk naturally includes a viable dark matter candidate and generates neutrin
 o masses radiatively *à la Scotogenic*. Our scenario can be viewed as an 
 ultraviolet extension of the Scotogenic mechanism\, addressing some of its
  shortcomings. The resulting phenomenology may be probed through a range o
 f experimental signatures\, from precision electroweak measurements to sea
 rches for lepton flavor violation.\n\nhttps://indico.ific.uv.es/event/8035
 /contributions/28633/
LOCATION:
URL:https://indico.ific.uv.es/event/8035/contributions/28633/
END:VEVENT
END:VCALENDAR
