BEGIN:VCALENDAR
VERSION:2.0
PRODID:-//CERN//INDICO//EN
BEGIN:VEVENT
SUMMARY:NEXT-100
DTSTART;VALUE=DATE-TIME:20251120T163000Z
DTEND;VALUE=DATE-TIME:20251120T165500Z
DTSTAMP;VALUE=DATE-TIME:20260420T191855Z
UID:indico-contribution-27832@indico.ific.uv.es
DESCRIPTION:Speakers: Juan José Gómez Cadenas (DIPC)\nhttps://indico.ifi
 c.uv.es/event/8035/contributions/27832/
LOCATION:
URL:https://indico.ific.uv.es/event/8035/contributions/27832/
END:VEVENT
END:VCALENDAR
