BEGIN:VCALENDAR
VERSION:2.0
PRODID:-//CERN//INDICO//EN
BEGIN:VEVENT
SUMMARY:Recent advancements in dark matter and HFGWs detection: Interferom
 etric techniques\, neural networks and detection improvements
DTSTART;VALUE=DATE-TIME:20250224T123000Z
DTEND;VALUE=DATE-TIME:20250224T130000Z
DTSTAMP;VALUE=DATE-TIME:20260424T112547Z
UID:indico-contribution-26229@indico.ific.uv.es
DESCRIPTION:Speakers: José Reina Valero (IFIC (CSIC-UV))\nhttps://indico.
 ific.uv.es/event/7976/contributions/26229/
LOCATION:Universe IFICMED-Primera-15 - IFIMED Sala de reuniones
URL:https://indico.ific.uv.es/event/7976/contributions/26229/
END:VEVENT
END:VCALENDAR
