BEGIN:VCALENDAR
VERSION:2.0
PRODID:-//CERN//INDICO//EN
BEGIN:VEVENT
SUMMARY:Tour de table
DTSTART;VALUE=DATE-TIME:20250224T114000Z
DTEND;VALUE=DATE-TIME:20250224T123000Z
DTSTAMP;VALUE=DATE-TIME:20260424T112546Z
UID:indico-contribution-26224@indico.ific.uv.es
DESCRIPTION:All participants present shortly (5 min) the tasks they've bee
 n working on since the previous meeting\n\nhttps://indico.ific.uv.es/event
 /7976/contributions/26224/
LOCATION:Universe IFICMED-Primera-15 - IFIMED Sala de reuniones
URL:https://indico.ific.uv.es/event/7976/contributions/26224/
END:VEVENT
END:VCALENDAR
