BEGIN:VCALENDAR
VERSION:2.0
PRODID:-//CERN//INDICO//EN
BEGIN:VEVENT
SUMMARY:Welcome and News
DTSTART;VALUE=DATE-TIME:20250224T113000Z
DTEND;VALUE=DATE-TIME:20250224T114000Z
DTSTAMP;VALUE=DATE-TIME:20260424T024936Z
UID:indico-contribution-26223@indico.ific.uv.es
DESCRIPTION:https://indico.ific.uv.es/event/7976/contributions/26223/
LOCATION:Universe IFICMED-Primera-15 - IFIMED Sala de reuniones
URL:https://indico.ific.uv.es/event/7976/contributions/26223/
END:VEVENT
END:VCALENDAR
