BEGIN:VCALENDAR
VERSION:2.0
PRODID:-//CERN//INDICO//EN
BEGIN:VEVENT
SUMMARY:Design of a high resolution Cavity BPM for the ILC main Linac
DTSTART;VALUE=DATE-TIME:20250210T120000Z
DTEND;VALUE=DATE-TIME:20250210T122000Z
DTSTAMP;VALUE=DATE-TIME:20260423T030911Z
UID:indico-contribution-26106@indico.ific.uv.es
DESCRIPTION:Speakers: Laura Pedraza Motavita (IFIC - UV)\nhttps://indico.i
 fic.uv.es/event/7949/contributions/26106/
LOCATION:Universe IFICMED-Primera-15 - IFIMED Sala de reuniones
URL:https://indico.ific.uv.es/event/7949/contributions/26106/
END:VEVENT
END:VCALENDAR
