BEGIN:VCALENDAR
VERSION:2.0
PRODID:-//CERN//INDICO//EN
BEGIN:VEVENT
SUMMARY:Tour de table
DTSTART;VALUE=DATE-TIME:20250210T111000Z
DTEND;VALUE=DATE-TIME:20250210T120000Z
DTSTAMP;VALUE=DATE-TIME:20260423T030911Z
UID:indico-contribution-26105@indico.ific.uv.es
DESCRIPTION:All participants present shortly (5 min) the tasks they've bee
 n working on since the previous meeting\n\nhttps://indico.ific.uv.es/event
 /7949/contributions/26105/
LOCATION:Universe IFICMED-Primera-15 - IFIMED Sala de reuniones
URL:https://indico.ific.uv.es/event/7949/contributions/26105/
END:VEVENT
END:VCALENDAR
