BEGIN:VCALENDAR
VERSION:2.0
PRODID:-//CERN//INDICO//EN
BEGIN:VEVENT
SUMMARY:Welcome and news
DTSTART;VALUE=DATE-TIME:20250127T110000Z
DTEND;VALUE=DATE-TIME:20250127T111000Z
DTSTAMP;VALUE=DATE-TIME:20260422T043409Z
UID:indico-contribution-26020@indico.ific.uv.es
DESCRIPTION:https://indico.ific.uv.es/event/7935/contributions/26020/
LOCATION:Universe IFICMED-Primera-15 - IFIMED Sala de reuniones
URL:https://indico.ific.uv.es/event/7935/contributions/26020/
END:VEVENT
END:VCALENDAR
