BEGIN:VCALENDAR
VERSION:2.0
PRODID:-//CERN//INDICO//EN
BEGIN:VEVENT
SUMMARY:Palabras del Vicerrector de Investigación de la Universidad de Va
 lencia
DTSTART;VALUE=DATE-TIME:20241213T102000Z
DTEND;VALUE=DATE-TIME:20241213T102500Z
DTSTAMP;VALUE=DATE-TIME:20260419T174830Z
UID:indico-contribution-25821@indico.ific.uv.es
DESCRIPTION:Speakers: Carlos Hermenegildo ()\nhttps://indico.ific.uv.es/ev
 ent/7901/contributions/25821/
LOCATION:
URL:https://indico.ific.uv.es/event/7901/contributions/25821/
END:VEVENT
END:VCALENDAR
