BEGIN:VCALENDAR
VERSION:2.0
PRODID:-//CERN//INDICO//EN
BEGIN:VEVENT
SUMMARY:Firma del convenio patrimonial entre el CSIC y la Universidad de V
 alència
DTSTART;VALUE=DATE-TIME:20241213T101000Z
DTEND;VALUE=DATE-TIME:20241213T102000Z
DTSTAMP;VALUE=DATE-TIME:20260421T135732Z
UID:indico-contribution-25820@indico.ific.uv.es
DESCRIPTION:Speakers: Carlos Hermenegildo ()\, Diana Morant ()\, Eloísa D
 el Pino ()\nhttps://indico.ific.uv.es/event/7901/contributions/25820/
LOCATION:
URL:https://indico.ific.uv.es/event/7901/contributions/25820/
END:VEVENT
END:VCALENDAR
