BEGIN:VCALENDAR
VERSION:2.0
PRODID:-//CERN//INDICO//EN
BEGIN:VEVENT
SUMMARY:Entrega de obsequios 2024: nuevos emeritos\, ad honorem\, responsa
 bles de comisiones\, etc.
DTSTART;VALUE=DATE-TIME:20241219T120000Z
DTEND;VALUE=DATE-TIME:20241219T121500Z
DTSTAMP;VALUE=DATE-TIME:20260420T033843Z
UID:indico-contribution-25799@indico.ific.uv.es
DESCRIPTION:https://indico.ific.uv.es/event/7882/contributions/25799/
LOCATION:
URL:https://indico.ific.uv.es/event/7882/contributions/25799/
END:VEVENT
END:VCALENDAR
