BEGIN:VCALENDAR
VERSION:2.0
PRODID:-//CERN//INDICO//EN
BEGIN:VEVENT
SUMMARY:Informe Severo Ochoa
DTSTART;VALUE=DATE-TIME:20241219T094500Z
DTEND;VALUE=DATE-TIME:20241219T101500Z
DTSTAMP;VALUE=DATE-TIME:20260419T142709Z
UID:indico-contribution-25761@indico.ific.uv.es
DESCRIPTION:Speakers: Veronica Sanz ()\nhttps://indico.ific.uv.es/event/78
 82/contributions/25761/
LOCATION:
URL:https://indico.ific.uv.es/event/7882/contributions/25761/
END:VEVENT
END:VCALENDAR
