BEGIN:VCALENDAR
VERSION:2.0
PRODID:-//CERN//INDICO//EN
BEGIN:VEVENT
SUMMARY:Unidad de Electrónica
DTSTART;VALUE=DATE-TIME:20241219T114500Z
DTEND;VALUE=DATE-TIME:20241219T120000Z
DTSTAMP;VALUE=DATE-TIME:20260420T123947Z
UID:indico-contribution-25760@indico.ific.uv.es
DESCRIPTION:Speakers: Pepe Bernabeu (IFIC)\nhttps://indico.ific.uv.es/even
 t/7882/contributions/25760/
LOCATION:
URL:https://indico.ific.uv.es/event/7882/contributions/25760/
END:VEVENT
END:VCALENDAR
