BEGIN:VCALENDAR
VERSION:2.0
PRODID:-//CERN//INDICO//EN
BEGIN:VEVENT
SUMMARY:L1 The Higgs force
DTSTART;VALUE=DATE-TIME:20241219T113000Z
DTEND;VALUE=DATE-TIME:20241219T114500Z
DTSTAMP;VALUE=DATE-TIME:20260419T185632Z
UID:indico-contribution-25759@indico.ific.uv.es
DESCRIPTION:Speakers: Arcadi Santamaria (IFIC\, Univ. Valencia-CSIC)\, Ger
 mán Rodrigo (IFIC UV-CSIC)\, Luca Fiorini (IFIC / U. Valencia - CSIC)\, S
 alvador Marti Garcia (IFIC-Valencia (UV-CSIC))\nhttps://indico.ific.uv.es/
 event/7882/contributions/25759/
LOCATION:
URL:https://indico.ific.uv.es/event/7882/contributions/25759/
END:VEVENT
END:VCALENDAR
