BEGIN:VCALENDAR
VERSION:2.0
PRODID:-//CERN//INDICO//EN
BEGIN:VEVENT
SUMMARY:Unidad de Mecánica
DTSTART;VALUE=DATE-TIME:20241219T111500Z
DTEND;VALUE=DATE-TIME:20241219T113000Z
DTSTAMP;VALUE=DATE-TIME:20260420T191840Z
UID:indico-contribution-25758@indico.ific.uv.es
DESCRIPTION:Speakers: César Blanch (IFIC)\nhttps://indico.ific.uv.es/even
 t/7882/contributions/25758/
LOCATION:
URL:https://indico.ific.uv.es/event/7882/contributions/25758/
END:VEVENT
END:VCALENDAR
