BEGIN:VCALENDAR
VERSION:2.0
PRODID:-//CERN//INDICO//EN
BEGIN:VEVENT
SUMMARY:Unidad de Mantenimiento
DTSTART;VALUE=DATE-TIME:20241219T110000Z
DTEND;VALUE=DATE-TIME:20241219T111500Z
DTSTAMP;VALUE=DATE-TIME:20260420T191841Z
UID:indico-contribution-25757@indico.ific.uv.es
DESCRIPTION:Speakers: Francisco Javier Gallego Baviera ()\nhttps://indico.
 ific.uv.es/event/7882/contributions/25757/
LOCATION:
URL:https://indico.ific.uv.es/event/7882/contributions/25757/
END:VEVENT
END:VCALENDAR
