BEGIN:VCALENDAR
VERSION:2.0
PRODID:-//CERN//INDICO//EN
BEGIN:VEVENT
SUMMARY:L3 Flavour and quark matter
DTSTART;VALUE=DATE-TIME:20241219T104500Z
DTEND;VALUE=DATE-TIME:20241219T110000Z
DTSTAMP;VALUE=DATE-TIME:20260419T185633Z
UID:indico-contribution-25756@indico.ific.uv.es
DESCRIPTION:Speakers: Antonio Pich (IFIC)\, Fernando Martinez Vidal (IFIC\
 , University of Valencia-CSIC)\, Francisco Botella (IFIC)\, Juan M Nieves 
 (IFIC\, CSIC-UV)\nhttps://indico.ific.uv.es/event/7882/contributions/25756
 /
LOCATION:
URL:https://indico.ific.uv.es/event/7882/contributions/25756/
END:VEVENT
END:VCALENDAR
