BEGIN:VCALENDAR
VERSION:2.0
PRODID:-//CERN//INDICO//EN
BEGIN:VEVENT
SUMMARY:Unidad de Informática
DTSTART;VALUE=DATE-TIME:20241219T093000Z
DTEND;VALUE=DATE-TIME:20241219T094500Z
DTSTAMP;VALUE=DATE-TIME:20260420T040704Z
UID:indico-contribution-25755@indico.ific.uv.es
DESCRIPTION:Speakers: Fco. Javier Sanchez Martinez (IFIC)\nhttps://indico.
 ific.uv.es/event/7882/contributions/25755/
LOCATION:
URL:https://indico.ific.uv.es/event/7882/contributions/25755/
END:VEVENT
END:VCALENDAR
