BEGIN:VCALENDAR
VERSION:2.0
PRODID:-//CERN//INDICO//EN
BEGIN:VEVENT
SUMMARY:Informe de Gerencia
DTSTART;VALUE=DATE-TIME:20241219T091500Z
DTEND;VALUE=DATE-TIME:20241219T093000Z
DTSTAMP;VALUE=DATE-TIME:20260419T145753Z
UID:indico-contribution-25754@indico.ific.uv.es
DESCRIPTION:Speakers: Ana Fandos (IFIC)\nhttps://indico.ific.uv.es/event/7
 882/contributions/25754/
LOCATION:
URL:https://indico.ific.uv.es/event/7882/contributions/25754/
END:VEVENT
END:VCALENDAR
