BEGIN:VCALENDAR
VERSION:2.0
PRODID:-//CERN//INDICO//EN
BEGIN:VEVENT
SUMMARY:Informe de Dirección
DTSTART;VALUE=DATE-TIME:20241219T083000Z
DTEND;VALUE=DATE-TIME:20241219T091500Z
DTSTAMP;VALUE=DATE-TIME:20260420T033839Z
UID:indico-contribution-25753@indico.ific.uv.es
DESCRIPTION:Speakers: Nuria Rius (IFIC\, Valencia University-CSIC)\nhttps:
 //indico.ific.uv.es/event/7882/contributions/25753/
LOCATION:
URL:https://indico.ific.uv.es/event/7882/contributions/25753/
END:VEVENT
END:VCALENDAR
