BEGIN:VCALENDAR
VERSION:2.0
PRODID:-//CERN//INDICO//EN
BEGIN:VEVENT
SUMMARY:Probing the abundance and internal structure of low-mass DM halos 
 with MW satellites in WDM & SIDM scenarios
DTSTART;VALUE=DATE-TIME:20250618T095000Z
DTEND;VALUE=DATE-TIME:20250618T100200Z
DTSTAMP;VALUE=DATE-TIME:20260421T171450Z
UID:indico-contribution-27570@indico.ific.uv.es
DESCRIPTION:Speakers: Soumyodipta Karmakar (University of New Mexico)\nhtt
 ps://indico.ific.uv.es/event/7815/contributions/27570/
LOCATION:
URL:https://indico.ific.uv.es/event/7815/contributions/27570/
END:VEVENT
END:VCALENDAR
