BEGIN:VCALENDAR
VERSION:2.0
PRODID:-//CERN//INDICO//EN
BEGIN:VEVENT
SUMMARY:Self-interacting dark matter and inelasticity
DTSTART;VALUE=DATE-TIME:20250611T081000Z
DTEND;VALUE=DATE-TIME:20250611T083000Z
DTSTAMP;VALUE=DATE-TIME:20260420T040654Z
UID:indico-contribution-27385@indico.ific.uv.es
DESCRIPTION:Speakers: Kallia Petraki (ENS and Sorbonne University)\nhttps:
 //indico.ific.uv.es/event/7815/contributions/27385/
LOCATION:
URL:https://indico.ific.uv.es/event/7815/contributions/27385/
END:VEVENT
END:VCALENDAR
