BEGIN:VCALENDAR
VERSION:2.0
PRODID:-//CERN//INDICO//EN
BEGIN:VEVENT
SUMMARY:Dark Bondi Accretion Aided by Baryons and the Origin of JWST Littl
 e Red Dots
DTSTART;VALUE=DATE-TIME:20250613T085000Z
DTEND;VALUE=DATE-TIME:20250613T091000Z
DTSTAMP;VALUE=DATE-TIME:20260420T090103Z
UID:indico-contribution-26885@indico.ific.uv.es
DESCRIPTION:Speakers: Wei-Xiang Feng (Tsinghua University)\nhttps://indico
 .ific.uv.es/event/7815/contributions/26885/
LOCATION:
URL:https://indico.ific.uv.es/event/7815/contributions/26885/
END:VEVENT
END:VCALENDAR
