BEGIN:VCALENDAR
VERSION:2.0
PRODID:-//CERN//INDICO//EN
BEGIN:VEVENT
SUMMARY:Two coincidences are a clue: Probing a GeV-scale dark sector
DTSTART;VALUE=DATE-TIME:20250613T095000Z
DTEND;VALUE=DATE-TIME:20250613T101000Z
DTSTAMP;VALUE=DATE-TIME:20260420T060040Z
UID:indico-contribution-26884@indico.ific.uv.es
DESCRIPTION:Speakers: Yi Chung (Max-Planck-Institut für Kernphysik)\nhttp
 s://indico.ific.uv.es/event/7815/contributions/26884/
LOCATION:
URL:https://indico.ific.uv.es/event/7815/contributions/26884/
END:VEVENT
END:VCALENDAR
