BEGIN:VCALENDAR
VERSION:2.0
PRODID:-//CERN//INDICO//EN
BEGIN:VEVENT
SUMMARY:Moderated discussion
DTSTART;VALUE=DATE-TIME:20250619T103000Z
DTEND;VALUE=DATE-TIME:20250619T110000Z
DTSTAMP;VALUE=DATE-TIME:20260420T090104Z
UID:indico-contribution-26861@indico.ific.uv.es
DESCRIPTION:https://indico.ific.uv.es/event/7815/contributions/26861/
LOCATION:
URL:https://indico.ific.uv.es/event/7815/contributions/26861/
END:VEVENT
END:VCALENDAR
