BEGIN:VCALENDAR
VERSION:2.0
PRODID:-//CERN//INDICO//EN
BEGIN:VEVENT
SUMMARY:Thermal evolution of the excited states in inelastic dark matter m
 odels
DTSTART;VALUE=DATE-TIME:20250619T101800Z
DTEND;VALUE=DATE-TIME:20250619T103000Z
DTSTAMP;VALUE=DATE-TIME:20260420T022645Z
UID:indico-contribution-26858@indico.ific.uv.es
DESCRIPTION:Speakers: Javier Silva Malpartida (PONTIFICIA UNIVERSIDAD CAT
 ÓLICA DEL PERÚ)\nhttps://indico.ific.uv.es/event/7815/contributions/2685
 8/
LOCATION:
URL:https://indico.ific.uv.es/event/7815/contributions/26858/
END:VEVENT
END:VCALENDAR
