BEGIN:VCALENDAR
VERSION:2.0
PRODID:-//CERN//INDICO//EN
BEGIN:VEVENT
SUMMARY:Extracting dark matter physics from the joint luminosity\, stellar
  dispersion\, and galaxy-size distribution of Milky Way satellites.
DTSTART;VALUE=DATE-TIME:20250618T074000Z
DTEND;VALUE=DATE-TIME:20250618T080000Z
DTSTAMP;VALUE=DATE-TIME:20260420T043421Z
UID:indico-contribution-26855@indico.ific.uv.es
DESCRIPTION:Speakers: Francis-Yan Cyr-Racine (University of New Mexico)\nh
 ttps://indico.ific.uv.es/event/7815/contributions/26855/
LOCATION:
URL:https://indico.ific.uv.es/event/7815/contributions/26855/
END:VEVENT
END:VCALENDAR
