BEGIN:VCALENDAR
VERSION:2.0
PRODID:-//CERN//INDICO//EN
BEGIN:VEVENT
SUMMARY:Review talk (CANCELLED)
DTSTART;VALUE=DATE-TIME:20250618T070000Z
DTEND;VALUE=DATE-TIME:20250618T074000Z
DTSTAMP;VALUE=DATE-TIME:20260420T182451Z
UID:indico-contribution-26854@indico.ific.uv.es
DESCRIPTION:Speakers: Oren Slone (Tel Aviv University)\nhttps://indico.ifi
 c.uv.es/event/7815/contributions/26854/
LOCATION:
URL:https://indico.ific.uv.es/event/7815/contributions/26854/
END:VEVENT
END:VCALENDAR
