BEGIN:VCALENDAR
VERSION:2.0
PRODID:-//CERN//INDICO//EN
BEGIN:VEVENT
SUMMARY:Freezing-in Cannibal Dark Matter during early matter domination
DTSTART;VALUE=DATE-TIME:20250619T094200Z
DTEND;VALUE=DATE-TIME:20250619T095400Z
DTSTAMP;VALUE=DATE-TIME:20260420T123948Z
UID:indico-contribution-26846@indico.ific.uv.es
DESCRIPTION:Speakers: Juan Esau Cervantes Hernandez (NCBJ (Warsaw))\nhttps
 ://indico.ific.uv.es/event/7815/contributions/26846/
LOCATION:
URL:https://indico.ific.uv.es/event/7815/contributions/26846/
END:VEVENT
END:VCALENDAR
