BEGIN:VCALENDAR
VERSION:2.0
PRODID:-//CERN//INDICO//EN
BEGIN:VEVENT
SUMMARY:Color-Flavor Locked SIDM
DTSTART;VALUE=DATE-TIME:20250611T101400Z
DTEND;VALUE=DATE-TIME:20250611T102600Z
DTSTAMP;VALUE=DATE-TIME:20260420T090126Z
UID:indico-contribution-26788@indico.ific.uv.es
DESCRIPTION:Speakers: Lorenzo De Ros (TUM)\nhttps://indico.ific.uv.es/even
 t/7815/contributions/26788/
LOCATION:
URL:https://indico.ific.uv.es/event/7815/contributions/26788/
END:VEVENT
END:VCALENDAR
