BEGIN:VCALENDAR
VERSION:2.0
PRODID:-//CERN//INDICO//EN
BEGIN:VEVENT
SUMMARY:SIDM with low-temperature reheating
DTSTART;VALUE=DATE-TIME:20250613T081000Z
DTEND;VALUE=DATE-TIME:20250613T083000Z
DTSTAMP;VALUE=DATE-TIME:20260421T024949Z
UID:indico-contribution-26784@indico.ific.uv.es
DESCRIPTION:Speakers: Nicolás Bernal (New York University Abu Dhabi)\nhtt
 ps://indico.ific.uv.es/event/7815/contributions/26784/
LOCATION:
URL:https://indico.ific.uv.es/event/7815/contributions/26784/
END:VEVENT
END:VCALENDAR
