BEGIN:VCALENDAR
VERSION:2.0
PRODID:-//CERN//INDICO//EN
BEGIN:VEVENT
SUMMARY:Dark matter bound-state formation in the sun
DTSTART;VALUE=DATE-TIME:20250611T085000Z
DTEND;VALUE=DATE-TIME:20250611T091000Z
DTSTAMP;VALUE=DATE-TIME:20260419T203737Z
UID:indico-contribution-26783@indico.ific.uv.es
DESCRIPTION:Speakers: Thomas Hambye (Brussels University (ULB))\nhttps://i
 ndico.ific.uv.es/event/7815/contributions/26783/
LOCATION:
URL:https://indico.ific.uv.es/event/7815/contributions/26783/
END:VEVENT
END:VCALENDAR
