BEGIN:VCALENDAR
VERSION:2.0
PRODID:-//CERN//INDICO//EN
BEGIN:VEVENT
SUMMARY:OJI introduction
DTSTART;VALUE=DATE-TIME:20241125T130000Z
DTEND;VALUE=DATE-TIME:20241125T130500Z
DTSTAMP;VALUE=DATE-TIME:20260419T142736Z
UID:indico-contribution-4509-25704@indico.ific.uv.es
DESCRIPTION:Speakers: Juan Palacios González (IFIC)\, Camilo Garcia Cely 
 (IFIC)\, Sara Rebecca Gozzini (IFIC)\, Baibhab Pattnaik (IFIC Valencia)\nh
 ttps://indico.ific.uv.es/event/7810/contributions/25704/
LOCATION:Salón de Actos del Edificio de Cabecera del Parque Científico
URL:https://indico.ific.uv.es/event/7810/contributions/25704/
END:VEVENT
BEGIN:VEVENT
SUMMARY:Presentation of new PhD students (oral presentations)
DTSTART;VALUE=DATE-TIME:20241125T133500Z
DTEND;VALUE=DATE-TIME:20241125T150500Z
DTSTAMP;VALUE=DATE-TIME:20260419T142736Z
UID:indico-contribution-4509-25118@indico.ific.uv.es
DESCRIPTION:https://indico.ific.uv.es/event/7810/contributions/25118/
LOCATION:Salón de Actos del Edificio de Cabecera del Parque Científico
URL:https://indico.ific.uv.es/event/7810/contributions/25118/
END:VEVENT
BEGIN:VEVENT
SUMMARY:Presentation from the coordinator of the PhD program
DTSTART;VALUE=DATE-TIME:20241125T130500Z
DTEND;VALUE=DATE-TIME:20241125T133500Z
DTSTAMP;VALUE=DATE-TIME:20260419T142736Z
UID:indico-contribution-4509-25114@indico.ific.uv.es
DESCRIPTION:Speakers: Vicent Martínez ()\nhttps://indico.ific.uv.es/event
 /7810/contributions/25114/
LOCATION:Salón de Actos del Edificio de Cabecera del Parque Científico
URL:https://indico.ific.uv.es/event/7810/contributions/25114/
END:VEVENT
END:VCALENDAR
